BEGIN:VCALENDAR
VERSION:2.0
PRODID:-//eventon.com NONSGML v1.0//EN
CALSCALE:GREGORIAN
METHOD:PUBLISH
BEGIN:VEVENT
UID:69ed93d4b4286
DTSTAMP:20260426T042556Z
DTSTART:20200129T183000Z
DTEND:20200129T183000Z
LOCATION:Hesper (L)
SUMMARY:PIAIR Hesper2 − Hesper1
DESCRIPTION:PIAIR Hesper2 − Hesper1\nhttps://www.fltas.lu/events/piair-he
 sper2-%e2%88%92-hesper1/
URL:https://www.fltas.lu/events/piair-hesper2-%e2%88%92-hesper1/
END:VEVENT
END:VCALENDAR