BEGIN:VCALENDAR
VERSION:2.0
PRODID:-//eventon.com NONSGML v1.0//EN
CALSCALE:GREGORIAN
METHOD:PUBLISH
BEGIN:VEVENT
UID:69ed800a3586a
DTSTAMP:20260426T030130Z
DTSTART:20200129T183000Z
DTEND:20200129T183000Z
LOCATION:Kayl (L)
SUMMARY:PIAIR Kayl1 − Brouch1
DESCRIPTION:PIAIR Kayl1 − Brouch1\nhttps://www.fltas.lu/events/piair-kayl
 1-%e2%88%92-brouch1/
URL:https://www.fltas.lu/events/piair-kayl1-%e2%88%92-brouch1/
END:VEVENT
END:VCALENDAR