BEGIN:VCALENDAR
VERSION:2.0
PRODID:-//eventon.com NONSGML v1.0//EN
CALSCALE:GREGORIAN
METHOD:PUBLISH
BEGIN:VEVENT
UID:69ed604966e9d
DTSTAMP:20260426T004601Z
DTSTART:20200129T183000Z
DTEND:20200129T183000Z
LOCATION:Hesper (L)
SUMMARY:PIAIR Hesper3 − Stass2
DESCRIPTION:PIAIR Hesper3 − Stass2\nhttps://www.fltas.lu/events/piair-hes
 per3-%e2%88%92-stass2/
URL:https://www.fltas.lu/events/piair-hesper3-%e2%88%92-stass2/
END:VEVENT
END:VCALENDAR