BEGIN:VCALENDAR
VERSION:2.0
PRODID:-//eventon.com NONSGML v1.0//EN
CALSCALE:GREGORIAN
METHOD:PUBLISH
BEGIN:VEVENT
UID:69ed4b5571c23
DTSTAMP:20260425T231637Z
DTSTART:20200129T183000Z
DTEND:20200129T183000Z
LOCATION:Schifflange (L)
SUMMARY:PIAIR Stass1 − Bloebierg
DESCRIPTION:PIAIR Stass1 − Bloebierg\nhttps://www.fltas.lu/events/piair-s
 tass1-%e2%88%92-bloebierg/
URL:https://www.fltas.lu/events/piair-stass1-%e2%88%92-bloebierg/
END:VEVENT
END:VCALENDAR