BEGIN:VCALENDAR
VERSION:2.0
PRODID:-//eventon.com NONSGML v1.0//EN
CALSCALE:GREGORIAN
METHOD:PUBLISH
BEGIN:VEVENT
UID:69ed367fd294a
DTSTAMP:20260425T214743Z
DTSTART:20200129T183000Z
DTEND:20200129T183000Z
LOCATION:Kayl (L)
SUMMARY:PIAIR Kayl5 − Kayl6
DESCRIPTION:PIAIR Kayl5 − Kayl6\nhttps://www.fltas.lu/events/piair-kayl5-
 %e2%88%92-kayl6/
URL:https://www.fltas.lu/events/piair-kayl5-%e2%88%92-kayl6/
END:VEVENT
END:VCALENDAR