BEGIN:VCALENDAR
VERSION:2.0
PRODID:-//eventon.com NONSGML v1.0//EN
CALSCALE:GREGORIAN
METHOD:PUBLISH
BEGIN:VEVENT
UID:69ed1f308bc03
DTSTAMP:20260425T200816Z
DTSTART:20200130T183000Z
DTEND:20200130T183000Z
LOCATION:Kayl (L)
SUMMARY:PIAIR Mondercange − Kayl3
DESCRIPTION:PIAIR Mondercange − Kayl3\nhttps://www.fltas.lu/events/piair-
 mondercange-%e2%88%92-kayl3/
URL:https://www.fltas.lu/events/piair-mondercange-%e2%88%92-kayl3/
END:VEVENT
END:VCALENDAR