BEGIN:VCALENDAR
VERSION:2.0
PRODID:-//eventon.com NONSGML v1.0//EN
CALSCALE:GREGORIAN
METHOD:PUBLISH
BEGIN:VEVENT
UID:69ed0b64b2e04
DTSTAMP:20260425T184348Z
DTSTART:20200130T183000Z
DTEND:20200130T183000Z
LOCATION:Schifflange (L)
SUMMARY:PIAIR Stass3 − Kayl4
DESCRIPTION:PIAIR Stass3 − Kayl4\nhttps://www.fltas.lu/events/piair-stass
 3-%e2%88%92-kayl4/
URL:https://www.fltas.lu/events/piair-stass3-%e2%88%92-kayl4/
END:VEVENT
END:VCALENDAR