BEGIN:VCALENDAR
VERSION:2.0
PRODID:-//eventon.com NONSGML v1.0//EN
CALSCALE:GREGORIAN
METHOD:PUBLISH
BEGIN:VEVENT
UID:69ecee764b848
DTSTAMP:20260425T164022Z
DTSTART:20200130T183000Z
DTEND:20200130T183000Z
LOCATION:Echternach (L)
SUMMARY:PIAIR Echternach − Armee2
DESCRIPTION:PIAIR Echternach − Armee2\nhttps://www.fltas.lu/events/piair-
 echternach-%e2%88%92-armee2/
URL:https://www.fltas.lu/events/piair-echternach-%e2%88%92-armee2/
END:VEVENT
END:VCALENDAR