BEGIN:VCALENDAR
VERSION:2.0
PRODID:-//eventon.com NONSGML v1.0//EN
CALSCALE:GREGORIAN
METHOD:PUBLISH
BEGIN:VEVENT
UID:69ecda637fb03
DTSTAMP:20260425T151443Z
DTSTART:20200130T183000Z
DTEND:20200130T183000Z
LOCATION:Hesper (L)
SUMMARY:PIAIR Hesper4 − Stass4
DESCRIPTION:PIAIR Hesper4 − Stass4\nhttps://www.fltas.lu/events/piair-hes
 per4-%e2%88%92-stass4/
URL:https://www.fltas.lu/events/piair-hesper4-%e2%88%92-stass4/
END:VEVENT
END:VCALENDAR