BEGIN:VCALENDAR
VERSION:2.0
PRODID:-//eventon.com NONSGML v1.0//EN
CALSCALE:GREGORIAN
METHOD:PUBLISH
BEGIN:VEVENT
UID:69ecc3e03fc10
DTSTAMP:20260425T133840Z
DTSTART:20200204T183000Z
DTEND:20200204T183000Z
LOCATION:Hesper (L)
SUMMARY:PIAIR Hesper2 − SAS
DESCRIPTION:PIAIR Hesper2 − SAS\nhttps://www.fltas.lu/events/piair-hesper
 2-%e2%88%92-sas/
URL:https://www.fltas.lu/events/piair-hesper2-%e2%88%92-sas/
END:VEVENT
END:VCALENDAR