BEGIN:VCALENDAR
VERSION:2.0
PRODID:-//eventon.com NONSGML v1.0//EN
CALSCALE:GREGORIAN
METHOD:PUBLISH
BEGIN:VEVENT
UID:69ecaecb058f7
DTSTAMP:20260425T120843Z
DTSTART:20200205T183000Z
DTEND:20200205T183000Z
LOCATION:Bloëbierg (L)
SUMMARY:PIAIR Bloebierg − Kayl2
DESCRIPTION:PIAIR Bloebierg − Kayl2\nhttps://www.fltas.lu/events/piair-bl
 oebierg-%e2%88%92-kayl2/
URL:https://www.fltas.lu/events/piair-bloebierg-%e2%88%92-kayl2/
END:VEVENT
END:VCALENDAR