BEGIN:VCALENDAR
VERSION:2.0
PRODID:-//eventon.com NONSGML v1.0//EN
CALSCALE:GREGORIAN
METHOD:PUBLISH
BEGIN:VEVENT
UID:69ec99619f9fe
DTSTAMP:20260425T103721Z
DTSTART:20200205T183000Z
DTEND:20200205T183000Z
LOCATION:Volmerange (F)
SUMMARY:PIAIR Bettembourg − Hesper3
DESCRIPTION:PIAIR Bettembourg − Hesper3\nhttps://www.fltas.lu/events/piai
 r-bettembourg-%e2%88%92-hesper3/
URL:https://www.fltas.lu/events/piair-bettembourg-%e2%88%92-hesper3/
END:VEVENT
END:VCALENDAR