BEGIN:VCALENDAR
VERSION:2.0
PRODID:-//eventon.com NONSGML v1.0//EN
CALSCALE:GREGORIAN
METHOD:PUBLISH
BEGIN:VEVENT
UID:69ec3d1b0e990
DTSTAMP:20260425T040339Z
DTSTART:20200206T183000Z
DTEND:20200206T183000Z
LOCATION:Diekirch (L)
SUMMARY:PIAIR Armee2  Stass4
DESCRIPTION:PIAIR Armee2 Stass4\nhttps://www.fltas.lu/events/piair-armee2-s
 tass4/
URL:https://www.fltas.lu/events/piair-armee2-stass4/
END:VEVENT
END:VCALENDAR