BEGIN:VCALENDAR
VERSION:2.0
PRODID:-//eventon.com NONSGML v1.0//EN
CALSCALE:GREGORIAN
METHOD:PUBLISH
BEGIN:VEVENT
UID:69ebfe53b0a2d
DTSTAMP:20260424T233547Z
DTSTART:20200212T183000Z
DTEND:20200212T183000Z
LOCATION:Diekirch (L)
SUMMARY:PIAIR Armee1 − Brouch1
DESCRIPTION:PIAIR Armee1 − Brouch1\nhttps://www.fltas.lu/events/piair-arm
 ee1-%e2%88%92-brouch1/
URL:https://www.fltas.lu/events/piair-armee1-%e2%88%92-brouch1/
END:VEVENT
END:VCALENDAR