BEGIN:VCALENDAR
VERSION:2.0
PRODID:-//eventon.com NONSGML v1.0//EN
CALSCALE:GREGORIAN
METHOD:PUBLISH
BEGIN:VEVENT
UID:69ebec2717149
DTSTAMP:20260424T221815Z
DTSTART:20200212T183000Z
DTEND:20200212T183000Z
LOCATION:Volmerange (F)
SUMMARY:PIAIR SAS − Hesper2
DESCRIPTION:PIAIR SAS − Hesper2\nhttps://www.fltas.lu/events/piair-sas-%e
 2%88%92-hesper2/
URL:https://www.fltas.lu/events/piair-sas-%e2%88%92-hesper2/
END:VEVENT
END:VCALENDAR