BEGIN:VCALENDAR
VERSION:2.0
PRODID:-//eventon.com NONSGML v1.0//EN
CALSCALE:GREGORIAN
METHOD:PUBLISH
BEGIN:VEVENT
UID:69ebd51ec322d
DTSTAMP:20260424T203958Z
DTSTART:20200212T183000Z
DTEND:20200212T183000Z
LOCATION:Volmerange (F)
SUMMARY:PIAIR Bettembourg − Kayl2
DESCRIPTION:PIAIR Bettembourg − Kayl2\nhttps://www.fltas.lu/events/piair-
 bettembourg-%e2%88%92-kayl2/
URL:https://www.fltas.lu/events/piair-bettembourg-%e2%88%92-kayl2/
END:VEVENT
END:VCALENDAR