BEGIN:VCALENDAR
VERSION:2.0
PRODID:-//eventon.com NONSGML v1.0//EN
CALSCALE:GREGORIAN
METHOD:PUBLISH
BEGIN:VEVENT
UID:69ebd3cb87012
DTSTAMP:20260424T203419Z
DTSTART:20200212T183000Z
DTEND:20200212T183000Z
LOCATION:Diekirch (L)
SUMMARY:PIAIR Armee2  Kayl6
DESCRIPTION:PIAIR Armee2 Kayl6\nhttps://www.fltas.lu/events/piair-armee2-ka
 yl6/
URL:https://www.fltas.lu/events/piair-armee2-kayl6/
END:VEVENT
END:VCALENDAR