BEGIN:VCALENDAR
VERSION:2.0
PRODID:-//eventon.com NONSGML v1.0//EN
CALSCALE:GREGORIAN
METHOD:PUBLISH
BEGIN:VEVENT
UID:69ebd5251a5b8
DTSTAMP:20260424T204005Z
DTSTART:20200213T183000Z
DTEND:20200213T183000Z
LOCATION:Kayl (L)
SUMMARY:PIAIR Kayl4 − Kayl3
DESCRIPTION:PIAIR Kayl4 − Kayl3\nhttps://www.fltas.lu/events/piair-kayl4-
 %e2%88%92-kayl3/
URL:https://www.fltas.lu/events/piair-kayl4-%e2%88%92-kayl3/
END:VEVENT
END:VCALENDAR