BEGIN:VCALENDAR
VERSION:2.0
PRODID:-//eventon.com NONSGML v1.0//EN
CALSCALE:GREGORIAN
METHOD:PUBLISH
BEGIN:VEVENT
UID:69ebd413293a7
DTSTAMP:20260424T203531Z
DTSTART:20200213T183000Z
DTEND:20200213T183000Z
LOCATION:Echternach (L)
SUMMARY:PIAIR Echternach − Hesper4
DESCRIPTION:PIAIR Echternach − Hesper4\nhttps://www.fltas.lu/events/piair
 -echternach-%e2%88%92-hesper4/
URL:https://www.fltas.lu/events/piair-echternach-%e2%88%92-hesper4/
END:VEVENT
END:VCALENDAR