BEGIN:VCALENDAR
VERSION:2.0
PRODID:-//eventon.com NONSGML v1.0//EN
CALSCALE:GREGORIAN
METHOD:PUBLISH
BEGIN:VEVENT
UID:69ebc0784c11c
DTSTAMP:20260424T191152Z
DTSTART:20200213T183000Z
DTEND:20200213T183000Z
LOCATION:Kayl (L)
SUMMARY:PIAIR Kayl5 − Stass4
DESCRIPTION:PIAIR Kayl5 − Stass4\nhttps://www.fltas.lu/events/piair-kayl5
 -%e2%88%92-stass4/
URL:https://www.fltas.lu/events/piair-kayl5-%e2%88%92-stass4/
END:VEVENT
END:VCALENDAR