BEGIN:VCALENDAR
VERSION:2.0
PRODID:-//eventon.com NONSGML v1.0//EN
CALSCALE:GREGORIAN
METHOD:PUBLISH
BEGIN:VEVENT
UID:69ebd6bebe531
DTSTAMP:20260424T204654Z
DTSTART:20200226T183000Z
DTEND:20200226T183000Z
LOCATION:Diekirch (L)
SUMMARY:PIAIR Armee1 − Hesper1
DESCRIPTION:PIAIR Armee1 − Hesper1\nhttps://www.fltas.lu/events/piair-arm
 ee1-%e2%88%92-hesper1/
URL:https://www.fltas.lu/events/piair-armee1-%e2%88%92-hesper1/
END:VEVENT
END:VCALENDAR