BEGIN:VCALENDAR
VERSION:2.0
PRODID:-//eventon.com NONSGML v1.0//EN
CALSCALE:GREGORIAN
METHOD:PUBLISH
BEGIN:VEVENT
UID:69ebd3a76bae9
DTSTAMP:20260424T203343Z
DTSTART:20200226T183000Z
DTEND:20200226T183000Z
LOCATION:Bloëbierg (L)
SUMMARY:PIAIR Bloebierg − Hesper3
DESCRIPTION:PIAIR Bloebierg − Hesper3\nhttps://www.fltas.lu/events/piair-
 bloebierg-%e2%88%92-hesper3/
URL:https://www.fltas.lu/events/piair-bloebierg-%e2%88%92-hesper3/
END:VEVENT
END:VCALENDAR