BEGIN:VCALENDAR
VERSION:2.0
PRODID:-//eventon.com NONSGML v1.0//EN
CALSCALE:GREGORIAN
METHOD:PUBLISH
BEGIN:VEVENT
UID:69ebd720a20f9
DTSTAMP:20260424T204832Z
DTSTART:20200226T183000Z
DTEND:20200226T183000Z
LOCATION:Schifflange (L)
SUMMARY:PIAIR Stass2 − Kayl2
DESCRIPTION:PIAIR Stass2 − Kayl2\nhttps://www.fltas.lu/events/piair-stass
 2-%e2%88%92-kayl2/
URL:https://www.fltas.lu/events/piair-stass2-%e2%88%92-kayl2/
END:VEVENT
END:VCALENDAR