BEGIN:VCALENDAR
VERSION:2.0
PRODID:-//eventon.com NONSGML v1.0//EN
CALSCALE:GREGORIAN
METHOD:PUBLISH
BEGIN:VEVENT
UID:69ebd403b8bb8
DTSTAMP:20260424T203515Z
DTSTART:20200226T183000Z
DTEND:20200226T183000Z
LOCATION:Volmerange (F)
SUMMARY:PIAIR Bettembourg − Stass1
DESCRIPTION:PIAIR Bettembourg − Stass1\nhttps://www.fltas.lu/events/piair
 -bettembourg-%e2%88%92-stass1/
URL:https://www.fltas.lu/events/piair-bettembourg-%e2%88%92-stass1/
END:VEVENT
END:VCALENDAR