BEGIN:VCALENDAR
VERSION:2.0
PRODID:-//eventon.com NONSGML v1.0//EN
CALSCALE:GREGORIAN
METHOD:PUBLISH
BEGIN:VEVENT
UID:69ebc3680a104
DTSTAMP:20260424T192424Z
DTSTART:20200226T183000Z
DTEND:20200226T183000Z
LOCATION:Kayl (L)
SUMMARY:PIAIR Kayl6 − Stass4
DESCRIPTION:PIAIR Kayl6 − Stass4\nhttps://www.fltas.lu/events/piair-kayl6
 -%e2%88%92-stass4/
URL:https://www.fltas.lu/events/piair-kayl6-%e2%88%92-stass4/
END:VEVENT
END:VCALENDAR