BEGIN:VCALENDAR
VERSION:2.0
PRODID:-//eventon.com NONSGML v1.0//EN
CALSCALE:GREGORIAN
METHOD:PUBLISH
BEGIN:VEVENT
UID:69ebd78748820
DTSTAMP:20260424T205015Z
DTSTART:20200227T183000Z
DTEND:20200227T183000Z
LOCATION:Kayl (L)
SUMMARY:PIAIR Kayl3 − Brouch2
DESCRIPTION:PIAIR Kayl3 − Brouch2\nhttps://www.fltas.lu/events/piair-kayl
 3-%e2%88%92-brouch2/
URL:https://www.fltas.lu/events/piair-kayl3-%e2%88%92-brouch2/
END:VEVENT
END:VCALENDAR