BEGIN:VCALENDAR
VERSION:2.0
PRODID:-//eventon.com NONSGML v1.0//EN
CALSCALE:GREGORIAN
METHOD:PUBLISH
BEGIN:VEVENT
UID:69ebd3c576ed3
DTSTAMP:20260424T203413Z
DTSTART:20200227T183000Z
DTEND:20200227T183000Z
LOCATION:Diekirch (L)
SUMMARY:PIAIR Armee2 − Kayl5
DESCRIPTION:PIAIR Armee2 − Kayl5\nhttps://www.fltas.lu/events/piair-armee
 2-%e2%88%92-kayl5/
URL:https://www.fltas.lu/events/piair-armee2-%e2%88%92-kayl5/
END:VEVENT
END:VCALENDAR