BEGIN:VCALENDAR
VERSION:2.0
PRODID:-//eventon.com NONSGML v1.0//EN
CALSCALE:GREGORIAN
METHOD:PUBLISH
BEGIN:VEVENT
UID:69ebe5abe6704
DTSTAMP:20260424T215035Z
DTSTART:20200304T183000Z
DTEND:20200304T183000Z
LOCATION:Brouch (L)
SUMMARY:PIAIR Brouch1 − Hesper1
DESCRIPTION:PIAIR Brouch1 − Hesper1\nhttps://www.fltas.lu/events/piair-br
 ouch1-%e2%88%92-hesper1/
URL:https://www.fltas.lu/events/piair-brouch1-%e2%88%92-hesper1/
END:VEVENT
END:VCALENDAR