BEGIN:VCALENDAR
VERSION:2.0
PRODID:-//eventon.com NONSGML v1.0//EN
CALSCALE:GREGORIAN
METHOD:PUBLISH
BEGIN:VEVENT
UID:69ebd6f25de83
DTSTAMP:20260424T204746Z
DTSTART:20200304T183000Z
DTEND:20200304T183000Z
LOCATION:Kayl (L)
SUMMARY:PIAIR Kayl1 − Hesper2
DESCRIPTION:PIAIR Kayl1 − Hesper2\nhttps://www.fltas.lu/events/piair-kayl
 1-%e2%88%92-hesper2/
URL:https://www.fltas.lu/events/piair-kayl1-%e2%88%92-hesper2/
END:VEVENT
END:VCALENDAR