BEGIN:VCALENDAR
VERSION:2.0
PRODID:-//eventon.com NONSGML v1.0//EN
CALSCALE:GREGORIAN
METHOD:PUBLISH
BEGIN:VEVENT
UID:69ebd3c538160
DTSTAMP:20260424T203413Z
DTSTART:20200305T183000Z
DTEND:20200305T183000Z
LOCATION:Kayl (L)
SUMMARY:PIAIR Mondercange − Stass3
DESCRIPTION:PIAIR Mondercange − Stass3\nhttps://www.fltas.lu/events/piair
 -mondercange-%e2%88%92-stass3/
URL:https://www.fltas.lu/events/piair-mondercange-%e2%88%92-stass3/
END:VEVENT
END:VCALENDAR