BEGIN:VCALENDAR
VERSION:2.0
PRODID:-//eventon.com NONSGML v1.0//EN
CALSCALE:GREGORIAN
METHOD:PUBLISH
BEGIN:VEVENT
UID:69ebd7692bd64
DTSTAMP:20260424T204945Z
DTSTART:20200311T183000Z
DTEND:20200311T183000Z
LOCATION:Hesper (L)
SUMMARY:PIAIR Hesper1 − Armee1
DESCRIPTION:PIAIR Hesper1 − Armee1\nhttps://www.fltas.lu/events/piair-hes
 per1-%e2%88%92-armee1/
URL:https://www.fltas.lu/events/piair-hesper1-%e2%88%92-armee1/
END:VEVENT
END:VCALENDAR