BEGIN:VCALENDAR
VERSION:2.0
PRODID:-//eventon.com NONSGML v1.0//EN
CALSCALE:GREGORIAN
METHOD:PUBLISH
BEGIN:VEVENT
UID:69ebd56d32568
DTSTAMP:20260424T204117Z
DTSTART:20200311T183000Z
DTEND:20200311T183000Z
LOCATION:Kayl (L)
SUMMARY:PIAIR Kayl1 − SAS
DESCRIPTION:PIAIR Kayl1 − SAS\nhttps://www.fltas.lu/events/piair-kayl1-%e
 2%88%92-sas/
URL:https://www.fltas.lu/events/piair-kayl1-%e2%88%92-sas/
END:VEVENT
END:VCALENDAR