BEGIN:VCALENDAR
VERSION:2.0
PRODID:-//eventon.com NONSGML v1.0//EN
CALSCALE:GREGORIAN
METHOD:PUBLISH
BEGIN:VEVENT
UID:69ebc092bbfa0
DTSTAMP:20260424T191218Z
DTSTART:20191116
DTEND:20191117
LOCATION:Hesperange (L)
SUMMARY:Challenge des Jeunes  1
DESCRIPTION:Challenge des Jeunes 1\nhttps://www.fltas.lu/events/challenge-d
 es-jeunes-1/
URL:https://www.fltas.lu/events/challenge-des-jeunes-1/
END:VEVENT
END:VCALENDAR