BEGIN:VCALENDAR
VERSION:2.0
PRODID:-//eventon.com NONSGML v1.0//EN
CALSCALE:GREGORIAN
METHOD:PUBLISH
BEGIN:VEVENT
UID:69ebbefc2cd75
DTSTAMP:20260424T190532Z
DTSTART:20191130
DTEND:20191201
LOCATION:Kayl (L)
SUMMARY:Challenge des Jeunes 2
DESCRIPTION:Challenge des Jeunes 2\nhttps://www.fltas.lu/events/challenge-d
 es-jeunes-2/
URL:https://www.fltas.lu/events/challenge-des-jeunes-2/
END:VEVENT
END:VCALENDAR