BEGIN:VCALENDAR
VERSION:2.0
PRODID:-//eventon.com NONSGML v1.0//EN
CALSCALE:GREGORIAN
METHOD:PUBLISH
BEGIN:VEVENT
UID:69ebbf3458f1e
DTSTAMP:20260424T190628Z
DTSTART:20191207
DTEND:20191208
LOCATION:Brouch (L)
SUMMARY:Challenge des Jeunes 3
DESCRIPTION:Challenge des Jeunes 3\nhttps://www.fltas.lu/events/challenge-d
 es-jeunes-3/
URL:https://www.fltas.lu/events/challenge-des-jeunes-3/
END:VEVENT
END:VCALENDAR