BEGIN:VCALENDAR
VERSION:2.0
PRODID:-//eventon.com NONSGML v1.0//EN
CALSCALE:GREGORIAN
METHOD:PUBLISH
BEGIN:VEVENT
UID:69ebd513c098a
DTSTAMP:20260424T203947Z
DTSTART:20200111
DTEND:20200112
LOCATION:Schifflange (L)
SUMMARY:Challenge des Jeunes 4
DESCRIPTION:Challenge des Jeunes 4\nhttps://www.fltas.lu/events/challenge-d
 es-jeunes-4/
URL:https://www.fltas.lu/events/challenge-des-jeunes-4/
END:VEVENT
END:VCALENDAR