BEGIN:VCALENDAR
VERSION:2.0
PRODID:-//eventon.com NONSGML v1.0//EN
CALSCALE:GREGORIAN
METHOD:PUBLISH
BEGIN:VEVENT
UID:69ebd78c783a1
DTSTAMP:20260424T205020Z
DTSTART:20200115
DTEND:20200116
LOCATION:
SUMMARY:G.P de France
DESCRIPTION:G.P de France\nhttps://www.fltas.lu/events/g-p-de-france/
URL:https://www.fltas.lu/events/g-p-de-france/
END:VEVENT
END:VCALENDAR