BEGIN:VCALENDAR
VERSION:2.0
PRODID:-//eventon.com NONSGML v1.0//EN
CALSCALE:GREGORIAN
METHOD:PUBLISH
BEGIN:VEVENT
UID:69ebee1328e21
DTSTAMP:20260424T222627Z
DTSTART:20200123
DTEND:20200124
LOCATION:München (D)
SUMMARY:H&N Cup
DESCRIPTION:H&N Cup\nhttps://www.fltas.lu/events/hn-cup/
URL:https://www.fltas.lu/events/hn-cup/
END:VEVENT
END:VCALENDAR