BEGIN:VCALENDAR
VERSION:2.0
PRODID:-//eventon.com NONSGML v1.0//EN
CALSCALE:GREGORIAN
METHOD:PUBLISH
BEGIN:VEVENT
UID:69ec01801e53a
DTSTAMP:20260424T234920Z
DTSTART:20200131
DTEND:20200201
LOCATION:Bloëbierg (L)
SUMMARY:CNI\, CFI\, CNE
DESCRIPTION:CNI\, CFI\, CNE\nhttps://www.fltas.lu/events/cnicficne/
URL:https://www.fltas.lu/events/cnicficne/
END:VEVENT
END:VCALENDAR