BEGIN:VCALENDAR
VERSION:2.0
PRODID:-//eventon.com NONSGML v1.0//EN
CALSCALE:GREGORIAN
METHOD:PUBLISH
BEGIN:VEVENT
UID:69ec17717ea33
DTSTAMP:20260425T012257Z
DTSTART:20200206
DTEND:20200207
LOCATION:Den Haag (NL)
SUMMARY:Intershoot
DESCRIPTION:Intershoot\nhttps://www.fltas.lu/events/intershoot-2/
URL:https://www.fltas.lu/events/intershoot-2/
END:VEVENT
END:VCALENDAR