BEGIN:VCALENDAR
VERSION:2.0
PRODID:-//eventon.com NONSGML v1.0//EN
CALSCALE:GREGORIAN
METHOD:PUBLISH
BEGIN:VEVENT
UID:69ec2d31f0d14
DTSTAMP:20260425T025545Z
DTSTART:20200222
DTEND:20200223
LOCATION:Brouch (L)
SUMMARY:Tir Carnaval
DESCRIPTION:Tir Carnaval\nhttps://www.fltas.lu/events/tir-carnaval/
URL:https://www.fltas.lu/events/tir-carnaval/
END:VEVENT
END:VCALENDAR