BEGIN:VCALENDAR
VERSION:2.0
PRODID:-//eventon.com NONSGML v1.0//EN
CALSCALE:GREGORIAN
METHOD:PUBLISH
BEGIN:VEVENT
UID:69ec978aefb1b
DTSTAMP:20260425T102930Z
DTSTART:20191114
DTEND:20191115
LOCATION:Brouch (L)
SUMMARY:Brouch Marathon 10m à air (cliquez ici pour plus d'infos)
DESCRIPTION:Brouch Marathon 10m à air (cliquez ici pour plus d'infos)\nhtt
 ps://www.fltas.lu/events/marathon-cliquez-ici-pour-plus-dinfos/
URL:https://www.fltas.lu/events/marathon-cliquez-ici-pour-plus-dinfos/
END:VEVENT
END:VCALENDAR