BEGIN:VCALENDAR
VERSION:2.0
PRODID:-//eventon.com NONSGML v1.0//EN
CALSCALE:GREGORIAN
METHOD:PUBLISH
BEGIN:VEVENT
UID:69ecad46a6197
DTSTAMP:20260425T120214Z
DTSTART:20200118
DTEND:20200119
LOCATION:
SUMMARY:RWS Cup
DESCRIPTION:RWS Cup\nhttps://www.fltas.lu/events/rws-cup-2/
URL:https://www.fltas.lu/events/rws-cup-2/
END:VEVENT
END:VCALENDAR