BEGIN:VCALENDAR
VERSION:2.0
PRODID:-//eventon.com NONSGML v1.0//EN
CALSCALE:GREGORIAN
METHOD:PUBLISH
BEGIN:VEVENT
UID:69ecc448333a3
DTSTAMP:20260425T134024Z
DTSTART:20191109
DTEND:20191110
LOCATION:
SUMMARY:CFE 1 Loftgewier – Arméi
DESCRIPTION:Responsable: Eiffes Remy 621 178 681\nhttps://www.fltas.lu/even
 ts/cfe-1-loftgewier-armei/
URL:https://www.fltas.lu/events/cfe-1-loftgewier-armei/
END:VEVENT
END:VCALENDAR