BEGIN:VCALENDAR
VERSION:2.0
PRODID:-//eventon.com NONSGML v1.0//EN
CALSCALE:GREGORIAN
METHOD:PUBLISH
BEGIN:VEVENT
UID:69ecb3b99e75a
DTSTAMP:20260425T122945Z
DTSTART:20191123
DTEND:20191124
LOCATION:
SUMMARY:CFE 2 Loftgewier – Iechternach
DESCRIPTION:Responsable: Vic Speicher 691 979 010\nhttps://www.fltas.lu/eve
 nts/cfe-2-loftgewier-iechternach/
URL:https://www.fltas.lu/events/cfe-2-loftgewier-iechternach/
END:VEVENT
END:VCALENDAR