BEGIN:VCALENDAR
VERSION:2.0
PRODID:-//eventon.com NONSGML v1.0//EN
CALSCALE:GREGORIAN
METHOD:PUBLISH
BEGIN:VEVENT
UID:69ec9ccb8ef89
DTSTAMP:20260425T105155Z
DTSTART:20200118
DTEND:20200119
LOCATION:
SUMMARY:CFE 3 Loftgewier - Hesper 1
DESCRIPTION:Responsable: Vaneckova Diana 621 702 419\nhttps://www.fltas.lu/
 events/cfe-3-loftgewier-hesper-1-2/
URL:https://www.fltas.lu/events/cfe-3-loftgewier-hesper-1-2/
END:VEVENT
END:VCALENDAR