BEGIN:VCALENDAR
VERSION:2.0
PRODID:-//eventon.com NONSGML v1.0//EN
CALSCALE:GREGORIAN
METHOD:PUBLISH
BEGIN:VEVENT
UID:69ec3068cb7c5
DTSTAMP:20260425T030928Z
DTSTART:20200321
DTEND:20200322
LOCATION:
SUMMARY:CFE 8 Loftgewier – Bloebierg
DESCRIPTION:Responsable: Tholl Alain 621 192 178\nhttps://www.fltas.lu/even
 ts/cfe-8-loftgewier-bloebierg-2/
URL:https://www.fltas.lu/events/cfe-8-loftgewier-bloebierg-2/
END:VEVENT
END:VCALENDAR