BEGIN:VCALENDAR
VERSION:2.0
PRODID:-//eventon.com NONSGML v1.0//EN
CALSCALE:GREGORIAN
METHOD:PUBLISH
BEGIN:VEVENT
UID:69ec1bbdb663d
DTSTAMP:20260425T014117Z
DTSTART:20200328
DTEND:20200329
LOCATION:
SUMMARY:CNI Loftgewier – Arméi
DESCRIPTION:Responsable: Schwartz Jang 691 878 665\nhttps://www.fltas.lu/ev
 ents/cni-loftgewier/
URL:https://www.fltas.lu/events/cni-loftgewier/
END:VEVENT
END:VCALENDAR