BEGIN:VCALENDAR
VERSION:2.0
PRODID:-//eventon.com NONSGML v1.0//EN
CALSCALE:GREGORIAN
METHOD:PUBLISH
BEGIN:VEVENT
UID:69ec089b68704
DTSTAMP:20260425T001939Z
DTSTART:20200207
DTEND:20200208
LOCATION:
SUMMARY:Assemblée Générale CTC à Esch
DESCRIPTION:Assemblée Générale CTC à Esch\nhttps://www.fltas.lu/events/
 assemblee-generale-ctc-a-esch/
URL:https://www.fltas.lu/events/assemblee-generale-ctc-a-esch/
END:VEVENT
END:VCALENDAR