BEGIN:VCALENDAR
VERSION:2.0
PRODID:-//eventon.com NONSGML v1.0//EN
CALSCALE:GREGORIAN
METHOD:PUBLISH
BEGIN:VEVENT
UID:69ebf13035778
DTSTAMP:20260424T223944Z
DTSTART:20200202
DTEND:20200203
LOCATION:Hesper (L)
SUMMARY:Diplomiwwerreeschung CCM Hesper 10h30
DESCRIPTION:Diplomiwwerreeschung CCM Hesper 10h30\nhttps://www.fltas.lu/eve
 nts/diplomiwwerreeschung-ccm-hesper-10h30/
URL:https://www.fltas.lu/events/diplomiwwerreeschung-ccm-hesper-10h30/
END:VEVENT
END:VCALENDAR